BEGIN:VCALENDAR
VERSION:2.0
PRODID:-//Barony of Sun Dragon - ECPv6.15.17//NONSGML v1.0//EN
CALSCALE:GREGORIAN
METHOD:PUBLISH
X-WR-CALNAME:Barony of Sun Dragon
X-ORIGINAL-URL:https://www.atenveldt.org/sundragon
X-WR-CALDESC:Events for Barony of Sun Dragon
REFRESH-INTERVAL;VALUE=DURATION:PT1H
X-Robots-Tag:noindex
X-PUBLISHED-TTL:PT1H
BEGIN:VTIMEZONE
TZID:America/Phoenix
BEGIN:STANDARD
TZOFFSETFROM:-0700
TZOFFSETTO:-0700
TZNAME:MST
DTSTART:20200101T000000
END:STANDARD
END:VTIMEZONE
BEGIN:VEVENT
DTSTART;TZID=America/Phoenix:20220606T180000
DTEND;TZID=America/Phoenix:20220606T210000
DTSTAMP:20260425T050926
CREATED:20220526T183707Z
LAST-MODIFIED:20220526T183707Z
UID:10000082-1654538400-1654549200@www.atenveldt.org
SUMMARY:Simple Medieval Dress & How to Sew an Inset Gore
DESCRIPTION:For those wanting a simple and easy to make dress\, come join me and I’ll teach you. We’ll make you a pattern and I’ll explain how to construct it\, including how to sew an inset gore on a sewing machine. \nYIS\, \nHer Honorable Ladyship Mattea
URL:https://www.atenveldt.org/sundragon/event/simple-medieval-dress-how-to-sew-an-inset-gore/
LOCATION:Peoria Community Center\, 8335 W Jefferson St\, Peoria\, AZ\, 85345\, United States
ATTACH;FMTTYPE=image/jpeg:https://www.atenveldt.org/sundragon/wp-content/uploads/sites/7/2022/05/Mattea.jpg
END:VEVENT
BEGIN:VEVENT
DTSTART;TZID=America/Phoenix:20220418T180000
DTEND;TZID=America/Phoenix:20220418T210000
DTSTAMP:20260425T050926
CREATED:20220208T214250Z
LAST-MODIFIED:20220321T162334Z
UID:10000073-1650304800-1650315600@www.atenveldt.org
SUMMARY:Intro to Weaving\, JUMBO Sized
DESCRIPTION:Join us February 28th for a tablet weaving demo\, JUMBO sized. I’ll go over reading patterns\, warping and weaving and more but with a twist! (many twists) Those wanting to will have the opportunity to try their hands at any step of the weaving process. \nYIS\, \nLady Mattea Locatelli \nCOVID Guidelines \nAlthough the SCA complies with all applicable laws to try to ensure the health and safety of our event participants\, we cannot eliminate the risk of exposure to infectious diseases during in-person events. By participating in the in-person events of the SCA\, you acknowledge and accept the potential risks. You agree to take any additional steps to protect your own health and safety and those under your control as you believe to be necessary.
URL:https://www.atenveldt.org/sundragon/event/2087/
LOCATION:Peoria Community Center\, 8335 W Jefferson St\, Peoria\, AZ\, 85345\, United States
ATTACH;FMTTYPE=image/jpeg:https://www.atenveldt.org/sundragon/wp-content/uploads/sites/7/2022/02/weaving-loom.jpg
END:VEVENT
BEGIN:VEVENT
DTSTART;TZID=America/Phoenix:20210927T180000
DTEND;TZID=America/Phoenix:20210927T210000
DTSTAMP:20260425T050926
CREATED:20210914T165746Z
LAST-MODIFIED:20210914T170026Z
UID:10000056-1632765600-1632776400@www.atenveldt.org
SUMMARY:Seam Embellishments
DESCRIPTION:Have you ever thought about how you can sew down your seams or facings\, but make your garb also look fancier? Well\, wonder no more! Lady Mattea Locatelli\, will be teaching Seam Embellishments. \nAlthough the SCA complies with all applicable laws to try to ensure the health and safety of our event participants\, we cannot eliminate the risk of exposure to infectious diseases during in-person events. By participating in the in-person events of the SCA\, you acknowledge and accept the potential risks. You agree to take any additional steps to protect your own health and safety and those under your control as you believe to be necessary.
URL:https://www.atenveldt.org/sundragon/event/seam-embellishments/
LOCATION:Peoria Community Center\, 8335 W Jefferson St\, Peoria\, AZ\, 85345\, United States
CATEGORIES:Accepted Bids
ATTACH;FMTTYPE=image/jpeg:https://www.atenveldt.org/sundragon/wp-content/uploads/sites/7/2021/09/seam-embellishments.jpg
END:VEVENT
BEGIN:VEVENT
DTSTART;TZID=America/Phoenix:20210927T180000
DTEND;TZID=America/Phoenix:20210927T210000
DTSTAMP:20260425T050926
CREATED:20210914T165156Z
LAST-MODIFIED:20210920T204917Z
UID:10000055-1632765600-1632776400@www.atenveldt.org
SUMMARY:Introduction to Medieval Embroidery
DESCRIPTION:Lady Mattea Locatelli will be teaching Introduction to Medieval Embroidery. Materials will be provided. \nAlthough the SCA complies with all applicable laws to try to ensure the health and safety of our event participants\, we cannot eliminate the risk of exposure to infectious diseases during in-person events. By participating in the in-person events of the SCA\, you acknowledge and accept the potential risks. You agree to take any additional steps to protect your own health and safety and those under your control as you believe to be necessary.
URL:https://www.atenveldt.org/sundragon/event/introduction-to-medieval-embroidery/
LOCATION:Peoria Community Center\, 8335 W Jefferson St\, Peoria\, AZ\, 85345\, United States
CATEGORIES:Accepted Bids
ATTACH;FMTTYPE=image/jpeg:https://www.atenveldt.org/sundragon/wp-content/uploads/sites/7/2021/09/embroidery.jpg
END:VEVENT
BEGIN:VEVENT
DTSTART;TZID=America/Phoenix:20210816T180000
DTEND;TZID=America/Phoenix:20210816T210000
DTSTAMP:20260425T050926
CREATED:20210809T180149Z
LAST-MODIFIED:20210812T191952Z
UID:10000050-1629136800-1629147600@www.atenveldt.org
SUMMARY:Measurements and Pattern Drafting
DESCRIPTION:Please join us for an evening a measurements and drafting. With Great Western closely approaching and many of attending\, let’s start making some garb. Let’s get the measurements and pattern drafting out of the way for SunDragon’s sewing day on Saturday the 21st. Things that you may need to bring will be yourself\, fabric measuring tape\, paper\, pen/pencil and muslin (for drafting). Make sure to wear comfortable clothing\, including the undergarments that you are planning on wearing with your garb. \nYIS\, Lady Mattea Locatelli\, MoAS \nPlease note – Although the SCA complies with all applicable laws to try to ensure the health and safety of our event participants\, we cannot eliminate the risk of exposure to infectious diseases during in-person events. By participating in the in-person events of the SCA\, you acknowledge and accept the potential risks. You agree to take any additional steps to protect your own health and safety and those under your control as you believe to be necessary.
URL:https://www.atenveldt.org/sundragon/event/measurements-and-patterns-drafting/
LOCATION:Peoria Community Center\, 8335 W Jefferson St\, Peoria\, AZ\, 85345\, United States
CATEGORIES:Accepted Bids
ATTACH;FMTTYPE=image/jpeg:https://www.atenveldt.org/sundragon/wp-content/uploads/sites/7/2021/08/sewing-2.jpg
END:VEVENT
BEGIN:VEVENT
DTSTART;TZID=America/Phoenix:20210809T180000
DTEND;TZID=America/Phoenix:20210809T210000
DTSTAMP:20260425T050926
CREATED:20210807T211906Z
LAST-MODIFIED:20210812T191953Z
UID:10000049-1628532000-1628542800@www.atenveldt.org
SUMMARY:Measurements and Pattern Drafting
DESCRIPTION:Please join us for an evening a measurements and drafting. With Great Western closely approaching and many of attending\, let’s start making some garb. Let’s get the measurements and pattern drafting out of the way for SunDragon’s sewing day on Saturday the 21st. Things that you may need to bring will be yourself\, fabric measuring tape\, paper\, pen/pencil and muslin (for drafting). Make sure to wear comfortable clothing\, including the undergarments that you are planning on wearing with your garb. \nYIS\, Lady Mattea Locatelli\, MoAS \nPlease note – Although the SCA complies with all applicable laws to try to ensure the health and safety of our event participants\, we cannot eliminate the risk of exposure to infectious diseases during in-person events. By participating in the in-person events of the SCA\, you acknowledge and accept the potential risks. You agree to take any additional steps to protect your own health and safety and those under your control as you believe to be necessary.
URL:https://www.atenveldt.org/sundragon/event/measurements-and-pattern-drafting/
LOCATION:Peoria Community Center\, 8335 W Jefferson St\, Peoria\, AZ\, 85345\, United States
CATEGORIES:Accepted Bids
ATTACH;FMTTYPE=image/jpeg:https://www.atenveldt.org/sundragon/wp-content/uploads/sites/7/2021/08/sewing-2.jpg
END:VEVENT
END:VCALENDAR