BEGIN:VCALENDAR
VERSION:2.0
PRODID:-//Barony of Sun Dragon - ECPv6.15.17//NONSGML v1.0//EN
CALSCALE:GREGORIAN
METHOD:PUBLISH
X-ORIGINAL-URL:https://www.atenveldt.org/sundragon
X-WR-CALDESC:Events for Barony of Sun Dragon
REFRESH-INTERVAL;VALUE=DURATION:PT1H
X-Robots-Tag:noindex
X-PUBLISHED-TTL:PT1H
BEGIN:VTIMEZONE
TZID:America/Phoenix
BEGIN:STANDARD
TZOFFSETFROM:-0700
TZOFFSETTO:-0700
TZNAME:MST
DTSTART:20200101T000000
END:STANDARD
END:VTIMEZONE
BEGIN:VEVENT
DTSTART;TZID=America/Phoenix:20211104T200000
DTEND;TZID=America/Phoenix:20211104T220000
DTSTAMP:20260419T095100
CREATED:20210914T175311Z
LAST-MODIFIED:20211027T195447Z
UID:10000061-1636056000-1636063200@www.atenveldt.org
SUMMARY:Hard Suit Champion Tournament
DESCRIPTION:Lord Cullen to host a single or double elimination tourney. Field #3 is located on the South East part of the park\, entrance is off of 79th Ave. Garb is encouraged. \n \nAlthough the SCA complies with all applicable laws to try to ensure the health and safety of our event participants\, we cannot eliminate the risk of exposure to infectious diseases during in-person events. By participating in the in-person events of the SCA\, you acknowledge and accept the potential risks. You agree to take any additional steps to protect your own health and safety and those under your control as you believe to be necessary.
URL:https://www.atenveldt.org/sundragon/event/hard-suit-campion-tournament/
LOCATION:Pioneer Community Park – Field #4\, 8755 N 83rd Ave\, Peoria\, AZ\, 85345\, United States
CATEGORIES:Accepted Bids
ATTACH;FMTTYPE=image/jpeg:https://www.atenveldt.org/sundragon/wp-content/uploads/sites/7/2021/09/sun-dragon-fighter-practice.jpg
END:VEVENT
END:VCALENDAR