BEGIN:VCALENDAR
VERSION:2.0
PRODID:-//War of the Phoenix 2026 - ECPv6.15.17//NONSGML v1.0//EN
CALSCALE:GREGORIAN
METHOD:PUBLISH
X-WR-CALNAME:War of the Phoenix 2026
X-ORIGINAL-URL:https://www.atenveldt.org/phoenix
X-WR-CALDESC:Events for War of the Phoenix 2026
REFRESH-INTERVAL;VALUE=DURATION:PT1H
X-Robots-Tag:noindex
X-PUBLISHED-TTL:PT1H
BEGIN:VTIMEZONE
TZID:America/Phoenix
BEGIN:STANDARD
TZOFFSETFROM:-0700
TZOFFSETTO:-0700
TZNAME:MST
DTSTART:20250101T000000
END:STANDARD
END:VTIMEZONE
BEGIN:VEVENT
DTSTART;TZID=America/Phoenix:20260211T090000
DTEND;TZID=America/Phoenix:20260211T180000
DTSTAMP:20260424T193741
CREATED:20260107T150312Z
LAST-MODIFIED:20260424T113138Z
UID:7776-1770800400-1770832800@www.atenveldt.org
SUMMARY:Youth & Teens Activities
DESCRIPTION:WOP YOUTH SCEDULE \n\n\n\n\n\n\n\n9:00 a.m.\nStory Time\nReading or Telling\na story\n\n\n10:00 a.m.\nPinch Pots\nworking with clay\n\n\n\n\n\n\n\n11:00 a.m.\nHow to sew\nall ages\nlearning to use a\nneeding and thread\n\n\n12-1:00 p.m.\nLunch\nLunch\n\n\n2:00 p.m.\nTaking Pictures\nwith the Sun\nMaking art with the\nsun-Cyanotype\n\n\n3:00 p.m.\nLearn how to\nsew\nFor all ages\n\n\n4:00 p.m. Switch\nOver\n\n\n\n\n5:00 p.m. Teens\nKobold Quest\nD&D Game\n\n\n6:00 p.m. Teens
URL:https://www.atenveldt.org/phoenix/events/youth-teens-activities/
LOCATION:Youth & Teen Point
CATEGORIES:Youth
ATTACH;FMTTYPE=image/jpeg:https://www.atenveldt.org/phoenix/wp-content/uploads/sites/18/2025/02/475971254_591769183744451_1670804481585277983_n.jpg
END:VEVENT
END:VCALENDAR