BEGIN:VCALENDAR
VERSION:2.0
PRODID:-//Kingdom of Atenveldt - ECPv6.15.17//NONSGML v1.0//EN
CALSCALE:GREGORIAN
METHOD:PUBLISH
X-WR-CALNAME:Kingdom of Atenveldt
X-ORIGINAL-URL:https://www.atenveldt.org
X-WR-CALDESC:Events for Kingdom of Atenveldt
REFRESH-INTERVAL;VALUE=DURATION:PT1H
X-Robots-Tag:noindex
X-PUBLISHED-TTL:PT1H
BEGIN:VTIMEZONE
TZID:America/Phoenix
BEGIN:STANDARD
TZOFFSETFROM:-0700
TZOFFSETTO:-0700
TZNAME:MST
DTSTART:20250101T000000
END:STANDARD
END:VTIMEZONE
BEGIN:VEVENT
DTSTART;VALUE=DATE:20260424
DTEND;VALUE=DATE:20260427
DTSTAMP:20260425T035658
CREATED:20251024T183428Z
LAST-MODIFIED:20260425T105338Z
UID:10000104-1776988800-1777247999@www.atenveldt.org
SUMMARY:Barmaids (BMMT)
DESCRIPTION:BARMAIDS\nWacky\, wavy\, stabby\, and maybe inflatable Weapons…\nWacky\, wavy\, stabby\, and maybe inflatable Weapons!\nGreetings unto the Populace of Glorious Atenveldt!\nBarmaids will soon be upon us! And with it the Barroom Brawls for Armored Combat and Rapier\, and the\nBarmaids Competition.\nCome enjoy the delights of our rough and rowdy barroom – It’s gonna be wild! Bring your Wacky Weapons and\nhave a smashing good time! Join us and show off your skills as a Barmaid in the best little Tavern in the\nAtenveldt.\nIn addition to Archery\, Thrown Weapons\, and A&S classes\, this year Barmaids will host the FIRST EVER\nMixologist Competition. Competitors will mix several drinks\, putting their own flare on each of them\, and try\nto impress the Judges with their Own Signature Drink.\nSpecial Events:\nOur theme will be celebrating the Norse Festival of Spring\, Disting. Throughout the day we will have “Viking\nGames” and competitions.\nCombat.\nBarroom Brawls for both Armored and Rapier Combat. Get your Wacky Weapons ready so you can use them in\nthe Barrooms.\nThe Boar Hunt. It’s back. Come “hunt” the “boar” in armored combat in the woods of Garden Canyon.\nThe Page Tourney. Rapier will hold their own tournament in the trees of the Garden Canyon\, as you gather your\nforces.\nArchery and Thrown Weapons will have amazing shoots and throws ON SITE!\nBarmaids Competition. Come prepared to awe the judges with your skills.\nMixologist Competition. This is the third annual Mixologist Competition—Chumbawamba Edition.\nCompetitors will mix several drinks\, putting their own flare on each of them\, and try to impress the Judges.\nThink you can mix a drink well? Do your friends rave about your cocktails? Then you could be the winner of\nthe Mixologist Competition. Competitor spaces are LIMITED; contact the Event Stewards to be included in the\ncompetition at TakaEiwa@gmail.com\nDon’t forget your Wacky Weapons! We look forward to seeing you there!\nSITE\nLower Garden Canyon Park\, Fort Huachuca\, AZ 85613\nTIMES\nSite opens 2 PM Friday\, April 24th 2024\nSite closes 10 AM Sunday\, April 26th 2024\nNEARBY AMENITIES\nThere are several fast food eateries and other restaurants within a few minutes’ drive\, as well as several hotels in\nclose proximity\, just outside the gates of the post.\nCAMPING\nCamping is for three nights: Friday\, Saturday\, and Sunday night.\nRVs have special rules at Lower Garden Canyon. Small “van campers” may be able to camp on site. Larger RVs\nwill need to reserve a spot with MWR.\nFor RV information contact the Event Steward to get details for on-site; and contact MWR for full RV sites and\navailability.\nNo wheeled vehicles are permitted to park in the grass overnight\, so if you have a vardo or camp trailer of some\nsort\, contact the Event Steward.\nNo wheeled vehicles are permitted to park in the grass overnight\, so if you have a vardo of some sort\, contact\nthe Event Steward!\nDIRECTIONS\nFrom I-10\, take SR 90 south to Fort Huachuca. Enter through the Buffalo Soldier Gate\, turning right of the\nSR90. Follow Squier Avenue as it splits to the right all the way to the traffic circle. Take the fourth exit from the\nTraffic circle and stop at the next stop sign. Then go straight across to follow Garden Canyon Road. Follow it\nuntil you reach Lower Garden Canyon.\nPRICES:\nAdult Members\n$25 – full event (Pre-Register Online)\n$30 at Gate – full event\nNon-Member Adults\n$35 – full event (Pre-Register Online)\n$40 at Gate – full event.\nNo Day Fees – full event only.\nYouth under 18 – FREE\nRefunds: Send requests via email to the local Mons Exchequer\, Lady Musa (Exchequer@bmmt.org). They are\nsubject to a $1 non-refundable charge. Refunds will be processed and mailed by check.\nGet your WACKY WEAPONS ready!\nYours in Service to the Dream\,\nReginleif Vigdisardottir\, Event Steward\nEiwaKensei\, Co-Steward\nTakaKensei\, Co-Steward\nQuestions? Contact the stewards at TakaEiwa@gmail.com
URL:https://www.atenveldt.org/event/barmaids-bmmt-2/
LOCATION:Holy Trinity Monastery\, 1605 S St Marys Way\, Saint David\, AZ\, United States
ATTACH;FMTTYPE=image/png:https://www.atenveldt.org/wp-content/uploads/2021/07/illum-mons.png
GEO:31.876365;-110.212655
X-APPLE-STRUCTURED-LOCATION;VALUE=URI;X-ADDRESS=Holy Trinity Monastery 1605 S St Marys Way Saint David AZ United States;X-APPLE-RADIUS=500;X-TITLE=1605 S St Marys Way:geo:-110.212655,31.876365
END:VEVENT
END:VCALENDAR