BEGIN:VCALENDAR
VERSION:2.0
PRODID:-//Shire of Burning Sands - ECPv6.15.17//NONSGML v1.0//EN
CALSCALE:GREGORIAN
METHOD:PUBLISH
X-ORIGINAL-URL:https://www.atenveldt.org/burningsands
X-WR-CALDESC:Events for Shire of Burning Sands
REFRESH-INTERVAL;VALUE=DURATION:PT1H
X-Robots-Tag:noindex
X-PUBLISHED-TTL:PT1H
BEGIN:VTIMEZONE
TZID:America/Phoenix
BEGIN:STANDARD
TZOFFSETFROM:-0700
TZOFFSETTO:-0700
TZNAME:MST
DTSTART:20250101T000000
END:STANDARD
END:VTIMEZONE
BEGIN:VEVENT
DTSTART;TZID=America/Phoenix:20260130T100000
DTEND;TZID=America/Phoenix:20260201T170000
DTSTAMP:20260424T094250
CREATED:20260121T212749Z
LAST-MODIFIED:20260121T212749Z
UID:10000269-1769767200-1769965200@www.atenveldt.org
SUMMARY:2026 Two Rivers Renaissance Faire Demo
DESCRIPTION:Burning Sands will once again be at Two Rivers Renaissance Faire this year! Come see us there 10am – 5pm Friday through Sunday\, January 30th – February 1st! We will be performing demos near the front entrance twice a day. When we are not demoing\, will will have our arts and sciences on display and available to talk about all that we do in the SCA and how to get involved year ’round! \nDemo Schedule:\nFriday 1:00 pm and 3:30 pm\nSaturday 10:30 am and 3:30 pm\nSunday 10:45 am and 1:00 pm \nIf you would like to volunteer to assist us in our endeavor\, please email seneschal@burningsands.atenveldt.org \nPer The Two Rivers Renn Faire Coordinators: \nThere is NO ALCOHOL allowed on the premises\, as well as NO PETS excluding service animals and NO FIREARMS allowed on the premises per the fairgrounds rules. Please clean up after yourselves. Please park all vehicles in the allotted parking area. \nThe address of the fairgrounds is 2520 E 32nd St\, Yuma\, AZ 85365 \nFor more information on the faire itself\, visit their website: https://www.tworiversfaire.com/ \nWe look forward to seeing you there!
URL:https://www.atenveldt.org/burningsands/event/2026-two-rivers-renaissance-faire-demo/
LOCATION:Yuma County Fairgrounds\, 2520 E 32nd St\, Yuma\, AZ\, 85365
CATEGORIES:Demo
ATTACH;FMTTYPE=image/jpeg:https://www.atenveldt.org/burningsands/wp-content/uploads/sites/15/2025/04/IMG_20250203_184410_01.jpg
END:VEVENT
END:VCALENDAR